BEGIN:VCALENDAR
VERSION:2.0
PRODID:-//Global Health Initiative - ECPv6.15.1.1//NONSGML v1.0//EN
CALSCALE:GREGORIAN
METHOD:PUBLISH
X-ORIGINAL-URL:https://ghicn.org
X-WR-CALDESC:Events for Global Health Initiative
REFRESH-INTERVAL;VALUE=DURATION:PT1H
X-Robots-Tag:noindex
X-PUBLISHED-TTL:PT1H
BEGIN:VTIMEZONE
TZID:America/New_York
BEGIN:DAYLIGHT
TZOFFSETFROM:-0500
TZOFFSETTO:-0400
TZNAME:EDT
DTSTART:20160313T070000
END:DAYLIGHT
BEGIN:STANDARD
TZOFFSETFROM:-0400
TZOFFSETTO:-0500
TZNAME:EST
DTSTART:20161106T060000
END:STANDARD
BEGIN:DAYLIGHT
TZOFFSETFROM:-0500
TZOFFSETTO:-0400
TZNAME:EDT
DTSTART:20170312T070000
END:DAYLIGHT
BEGIN:STANDARD
TZOFFSETFROM:-0400
TZOFFSETTO:-0500
TZNAME:EST
DTSTART:20171105T060000
END:STANDARD
BEGIN:DAYLIGHT
TZOFFSETFROM:-0500
TZOFFSETTO:-0400
TZNAME:EDT
DTSTART:20180311T070000
END:DAYLIGHT
BEGIN:STANDARD
TZOFFSETFROM:-0400
TZOFFSETTO:-0500
TZNAME:EST
DTSTART:20181104T060000
END:STANDARD
END:VTIMEZONE
BEGIN:VEVENT
DTSTART;VALUE=DATE:20180424
DTEND;VALUE=DATE:20180426
DTSTAMP:20260423T213245
CREATED:20180410T161747Z
LAST-MODIFIED:20180410T193954Z
UID:679-1524600000-1524686399@ghicn.org
SUMMARY:World Malaria Day
DESCRIPTION:Ready to Beat Malaria\nWHO joins partner organizations in promoting this year’s World Malaria Day theme\, Ready to Beat Malaria. \nRead more HERE
URL:https://ghicn.org/event/world-malaria-day/
CATEGORIES:Action Day
END:VEVENT
BEGIN:VEVENT
DTSTART;TZID=America/New_York:20180418T040000
DTEND;TZID=America/New_York:20180418T050000
DTSTAMP:20260423T213245
CREATED:20180409T174943Z
LAST-MODIFIED:20180410T194006Z
UID:654-1524024000-1524027600@ghicn.org
SUMMARY:Beyond Flexner: Social Mission in Medical Education
DESCRIPTION:Dr. Fitzhugh Mullan \nProfessor of Heath Policy Management & Pediatrics\, and \nCo-Director of The George Washington University Health Workforce Institute
URL:https://ghicn.org/event/beyond-flexner-social-mission-in-medical-education/
LOCATION:Children’s National Hospital\, 111 Michigan Ave NW\, Washington\, DC\, 20010\, United States
CATEGORIES:Educational Event,Speaker Series
END:VEVENT
BEGIN:VEVENT
DTSTART;TZID=America/New_York:20180417T080000
DTEND;TZID=America/New_York:20180417T090000
DTSTAMP:20260423T213245
CREATED:20180408T180054Z
LAST-MODIFIED:20180410T194015Z
UID:651-1523952000-1523955600@ghicn.org
SUMMARY:The Global Burden of Cardiovascular Diseases
DESCRIPTION:Dr. Greg Roth  \nDr. Roth is Adjunct Assistant Professor of Global Health & Assistant Professor\, Medicine – Cardiology at the University of Washington in Seattle\, WA. \nCNHS 2nd Floor Auditorium
URL:https://ghicn.org/event/the-global-burden-of-cardiovascular-diseases/
LOCATION:Children’s National Hospital\, 111 Michigan Ave NW\, Washington\, DC\, 20010\, United States
CATEGORIES:Educational Event,Speaker Series
END:VEVENT
BEGIN:VEVENT
DTSTART;TZID=America/New_York:20180417T070000
DTEND;TZID=America/New_York:20180417T080000
DTSTAMP:20260423T213245
CREATED:20180407T172717Z
LAST-MODIFIED:20180409T192812Z
UID:645-1523948400-1523952000@ghicn.org
SUMMARY:Community and Global Health Mix & Mingle
DESCRIPTION:Community & Global Health present this Mix & Mingle\nas part of Research & Education Week\nWhere: Bear Institute Vision Center \n2nd Floor Main Hospital \n(Between the Auditorium and the Cafeteria) \nWhy: Swing by to network with community and Global Health Colleagues\, learn more about the Global health Initiative at Children’s (GHI) and Child Health Advocacy Institute (CHAI) and how to get involved and have some healthy snacks! Feel free to invite colleagues who may be interested.
URL:https://ghicn.org/event/mix-mingle/
END:VEVENT
BEGIN:VEVENT
DTSTART;VALUE=DATE:20180415
DTEND;VALUE=DATE:20180421
DTSTAMP:20260423T213245
CREATED:20180129T230218Z
LAST-MODIFIED:20180410T194026Z
UID:515-1523822400-1524254399@ghicn.org
SUMMARY:Research and Education Week
DESCRIPTION:8th Annual Research & Education Week 2018\ndiversity powers innovation\nVisit researchweek.ctsicn.org for all event information including the Research and \nEducation Week Program and Abstracts.
URL:https://ghicn.org/event/research-and-education-week/
LOCATION:Children’s National Hospital\, 111 Michigan Ave NW\, Washington\, DC\, 20010\, United States
CATEGORIES:Educational Event
END:VEVENT
BEGIN:VEVENT
DTSTART;TZID=America/New_York:20180415T040000
DTEND;TZID=America/New_York:20180415T130000
DTSTAMP:20260423T213245
CREATED:20180308T214648Z
LAST-MODIFIED:20180410T194051Z
UID:544-1523764800-1523797200@ghicn.org
SUMMARY:Deadline GHI Faculty
DESCRIPTION:We invite you to become an Official Member of the Global Health Initiative (GHI). All Children’s National employees are invited to apply to for this new program\, through which we will coordinate our education and research programs\, mentorship opportunities\, committee-based and strategic efforts\, and networking. \n  \nPlease complete this form by April 15th to show your interest in becoming an Official Member of GHI for  the 2018-2019 Academic Year. 
URL:https://ghicn.org/event/deadline-ghi-faculty/
END:VEVENT
BEGIN:VEVENT
DTSTART;TZID=America/New_York:20180308T130000
DTEND;TZID=America/New_York:20180308T144500
DTSTAMP:20260423T213245
CREATED:20180301T043625Z
LAST-MODIFIED:20180301T043625Z
UID:530-1520514000-1520520300@ghicn.org
SUMMARY:Film Screening - Bending the Arc
DESCRIPTION:Dr. Paul Farmer\, Dr. Jim Kim\, Ophelia Dahl\, Todd McCormack and Thomas White began a movement in the 1980s that changed global health forever. Bending the Arc tells their story.
URL:https://ghicn.org/event/film-screening-bending-the-arc/
LOCATION:Children’s National Hospital\, 111 Michigan Ave NW\, Washington\, DC\, 20010\, United States
CATEGORIES:Film
ATTACH;FMTTYPE=image/jpeg:https://ghicn.org/wp-content/uploads/2018/02/Farmer-Pic.jpg
END:VEVENT
BEGIN:VEVENT
DTSTART;VALUE=DATE:20180304
DTEND;VALUE=DATE:20180310
DTSTAMP:20260423T213245
CREATED:20180125T231016Z
LAST-MODIFIED:20180309T024549Z
UID:500-1520190000-1520621999@ghicn.org
SUMMARY:Introduction to Global Child Health Course
DESCRIPTION:Speakers are currently being confirmed and will feature global health experts from Children’s National\, USAID and Save the Children discussing various global health cases and topics\, including malaria\, sickle cell disease\, malnutrition\, global health policy\, tuberculosis\, etc. \nSchedule for the week
URL:https://ghicn.org/event/introduction-to-global-child-health-course/
LOCATION:Children’s National Hospital\, 111 Michigan Ave NW\, Washington\, DC\, 20010\, United States
ORGANIZER;CN="Kathy Ferrer%2C Course Director":MAILTO:kferrer@childrensnational.org
END:VEVENT
BEGIN:VEVENT
DTSTART;TZID=America/New_York:20170925T040000
DTEND;TZID=America/New_York:20170925T050000
DTSTAMP:20260423T213245
CREATED:20190827T054533Z
LAST-MODIFIED:20190827T054535Z
UID:1808-1506312000-1506315600@ghicn.org
SUMMARY:Global Health Grand Rounds: GHI Research Director\, Dr. Andrea Beaton
DESCRIPTION:2nd floor Auditorium \n\n\n\n\n\n\n\nJoin us in the auditorium tomorrow morning at 8am to hear our GHI Research Director\, Dr. Andrea Beaton\, present Hospital Grand Rounds –  “Global Disease Disparity: Re-Examining what we thought we knew about Rheumatic Heart Disease.” \n\n\n\nAbout the session: In the late 19th and early 20th century\, acute rheumatic fever was one of the leading causes of child mortality in the United States. Research\, education\, advocacy and luck led to a dramatic decline to the point where rheumatic fever was considered nearly eliminated in high-income settings. However\, rheumatic fever and rheumatic heart disease continue unabated in many parts of the world\, and remain a disease of disparity here at home. Why? And what are we doing?  \n\n\n\nThis presentation is part of our fall 2017 global health course. \n\n\n\nView Dr. Beaton’s Grand Rounds Presentation at the Children’s National Youtube Channel here: https://youtu.be/YQX4UO9RIew 
URL:https://ghicn.org/event/global-health-grand-rounds-ghi-research-director-dr-andrea-beaton/
END:VEVENT
BEGIN:VEVENT
DTSTART;TZID=America/New_York:20170920T040000
DTEND;TZID=America/New_York:20170920T050000
DTSTAMP:20260423T213245
CREATED:20190827T191028Z
LAST-MODIFIED:20190827T191127Z
UID:1942-1505880000-1505883600@ghicn.org
SUMMARY:Global Disease Disparity: Re-examining What We Thought We Knew About Rheumatic Heart Disease
DESCRIPTION:Featured Speaker: Andrea Beaton\, MD\, Assistant Professor of Pediatrics\, George Washington University Cardiology\, CNHS  \n\n\n\nIn the late 19th and early 20th century\, acute rheumatic fever was considered “childhood’s greatest enemy” in the United States. Now\, the disease is nearly eliminated in high-income settings. But\, rheumatic fever and rheumatic heart disease remain prominent in many parts of the world\, and is today a disease of disparity in the United States.   \n\n\n\nAndrea Beaton\, MD lectures on rheumatic fever and rheumatic heart disease. She opens the talk by providing a history of acute rheumatic fever in the United States\, from its beginning roots as scarlet fever in the 1860’s\, through the Jones Criteria and the mass production of penicillin\, to the near elimination of the disease in the 1970’s and 1980’s.   \n\n\n\nBeaton notes rheumatic heart disease remains prevalent in areas of the United States\, and argues that we need to re-examine our long-held beliefs about rheumatic fever and rheumatic heart disease to better diagnose and treat the disease\, starting with the idea that both are considered “solved cases.” \n\n\n\nUsing her work with Children’s National in Uganda as a case study\, Beaton further argues we must recognize strategies that worked in the United States may not be effective or acceptable in low-income settings. \n\n\n\n You can watch the full lecture here.
URL:https://ghicn.org/event/global-disease-disparity-re-examining-what-we-thought-we-knew-about-rheumatic-heart-disease/
LOCATION:2nd floor Auditorium\, Children’s National Health System\, 111 Michigan Ave NW\, Washington\, DC\, 20010\, United States
ATTACH;FMTTYPE=image/jpeg:https://ghicn.org/wp-content/uploads/2019/08/andrea-headshot.jpeg
END:VEVENT
BEGIN:VEVENT
DTSTART;TZID=America/New_York:20170328T080000
DTEND;TZID=America/New_York:20170328T090000
DTSTAMP:20260423T213245
CREATED:20190827T190638Z
LAST-MODIFIED:20190827T190639Z
UID:1939-1490688000-1490691600@ghicn.org
SUMMARY:The ABC’s of Refugee Health
DESCRIPTION:Featured Speaker: Curi Kim\, MD\, MDH Director\, Division of Refugee Health\, Office of Refugee Settlement\, Administration for  Children and Families\, U.S. Department of Health and Human Services  \n\n\n\nBy the end of 2017\, 68.5 million people worldwide were displaced – 16.2 million of whom were displaced in 2017 itself. 25.4 million of the 68.5 million were refugees\, an increase of 2.9 million from the year before.  \n\n\n\nWhile they are in good health generally\, refugees may fall sick in transition or while staying in new countries. Poor living conditions like camps with poor shelter\, sanitation\, and water/food insecurity\, and changes in lifestyle that increase stress can put a refugee’s health at risk.   \n\n\n\nLanguage barriers\, discrimination\, and their immigration status may make it difficult for refugees to access healthcare.  \n\n\n\nIn her lecture\, Curi Kim\, MD\, MPH educates on the distinction between refugees and other migrant populations in the United States\, and how these populations the United States\, including how they are medically screened. She also examines how immigration status affects refugees and migrants’ eligibility for health benefits. Kim’s presentation provides a holistic approach to caring for refugees and other migrant populations in the United States\, in a trauma-informed\, culturally sensitive manner.
URL:https://ghicn.org/event/the-abcs-of-refugee-health/
LOCATION:2nd floor Auditorium\, Children’s National Health System\, 111 Michigan Ave NW\, Washington\, DC\, 20010\, United States
ATTACH;FMTTYPE=image/jpeg:https://ghicn.org/wp-content/uploads/2019/08/curikim.jpg
END:VEVENT
BEGIN:VEVENT
DTSTART;TZID=America/New_York:20161130T030000
DTEND;TZID=America/New_York:20161130T040000
DTSTAMP:20260423T213245
CREATED:20190827T190201Z
LAST-MODIFIED:20190827T190211Z
UID:1935-1480474800-1480478400@ghicn.org
SUMMARY:Global Health Justice\, Politics and Human Rights in the AIDS Pandemic – Getting to Zero
DESCRIPTION:Featured Speaker: Lawrence O. Gostin\, University Professor\, Founding O’Neill Chair in Global Health Law; Faculty Director\, O’Neill Institute for National and Global Health Law\, Georgetown Law; Director\, World Health Organization Collaborating Center on Public Health Law &  Human Rights; Co-Author of Public Health Law: Power\, Duty\, Restraint; Author\, Global Health Law \n\n\n\nMany individuals living with HIV/AIDS face social discrimination and human rights violations. Violations in the context of HIV include: the criminalization and enactment of laws that target people most vulnerable to or affected by HIV\, stigma and discrimination in the workplace and healthcare\, gender inequality\, and denial of HIV services.    \n\n\n\nLawrence O. Gostin lectures on the interconnected nature of global health and justice. He tracks the history of AIDS from a “socially stigmatized disease\, to one the United States and world embraced like no other epidemic…” He pays particular attention to the vital role social mobilization and civil society action played in transforming the world’s perception of the disease.  \n\n\n\nGostin also explores how basic public health interventions – such as HIV screening\, named reporting\, partner notification\, harm reduction\, and needle exchange – were ethically controversial during early implementation\, and provides policy solutions to ensure effective prevention\, harm reduction\, and treatment of HIV/AIDS.  \n\n\n\nYou can watch the full lecture here.
URL:https://ghicn.org/event/global-health-justice-politics-and-human-rights-in-the-aids-pandemic-getting-to-zero/
LOCATION:2nd floor Auditorium\, Children’s National Health System\, 111 Michigan Ave NW\, Washington\, DC\, 20010\, United States
ATTACH;FMTTYPE=image/jpeg:https://ghicn.org/wp-content/uploads/2019/08/Gostin-pic.jpg
END:VEVENT
BEGIN:VEVENT
DTSTART;TZID=America/New_York:20160422T084500
DTEND;TZID=America/New_York:20160422T094500
DTSTAMP:20260423T213245
CREATED:20190827T185205Z
LAST-MODIFIED:20190827T185206Z
UID:1930-1461314700-1461318300@ghicn.org
SUMMARY:"Vaccinology: Developing the Next Generation of Vaccines – How Close are We to an HIV Vaccine?"
DESCRIPTION:Featured Speaker: Julia Hutter\, MD MPH\, Lieutenant Commander\, Vaccine Research Program\, DAIDS\, NIH \n\n\n\nVaccines protect against diseases by teaching our immune systems to fight against harmful bacteria and viruses. In the past\, vaccines were central to lifting global burdens of diseases like polio and measles. Today\, a vaccine may be the missing solution to preventing HIV infections\, allowing for the potential to end the HIV/AIDS pandemic. \n\n\n\nCurrently\, there is no preventative HIV vaccine. Julia Hutter\, MD MPH discusses current categories of licensed childhood vaccinations and educates on the challenges of developing an HIV vaccine. She also explores different vaccine designs attempting to overcome said challenges.  \n\n\n\nThis lecture was part of Research and Education Week 2016 at Children’s National. You can find a full list of events for that week here.
URL:https://ghicn.org/event/vaccinology-developing-the-next-generation-of-vaccines-how-close-are-we-to-an-hiv-vaccine/
LOCATION:2nd floor Auditorium\, Children’s National Health System\, 111 Michigan Ave NW\, Washington\, DC\, 20010\, United States
END:VEVENT
BEGIN:VEVENT
DTSTART;TZID=America/New_York:20160420T040000
DTEND;TZID=America/New_York:20160420T050000
DTSTAMP:20260423T213245
CREATED:20190827T184437Z
LAST-MODIFIED:20190827T184751Z
UID:1924-1461124800-1461128400@ghicn.org
SUMMARY:EXCELeration – Getting Up to Speed Faster: The Development of Expertise and its Impact in Healthcare and Safety
DESCRIPTION:Featured Speaker: Gary Klein\, PHD Senior Scientist\, Macrocognition LLC  \n\n\n\nAfter someone finishes their training\, they might have difficulty adapting to their new job environment. In his lecture\, Gary Klein\, PHD examines why many individuals aren’t “up to speed” when first beginning their jobs\, and how they can transition quicker.  \n\n\n\nAs Klein has observed in fields from petrochemicals to child protective services\, many people associate getting “up to speed” with teaching more procedures\, adding more plays in their playbook. While procedures have their place\, Klein asserts it is dangerous to rely on them solely. He instead emphasizes the importance of developing tacit knowledge to excel in a new job.  \n\n\n\nKlein explores the tacit knowledge areas of: pattern recognition and perceptual discrimination through his experience working with nurses treating sepsis-affected infants\, judging typicality\, and mindsets. He also looks at mental models through his interviews with housewives about stain remover.  \n\n\n\nKlein closes the lecture by outlining different methods for organizations to develop tacit knowledge. These include: On-the-job-training\, scenario-based training\, simulations\, exploring what ifs\, and cognitive debriefing.   \n\n\n\nYou can watch the full lecture here.  \n\n\n\nThis lecture was part of Research and Education Week 2016 at Children’s National. You can find a full list of events for that week here. 
URL:https://ghicn.org/event/exceleration-getting-up-to-speed-faster-the-development-of-expertise-and-its-impact-in-healthcare-and-safety/
LOCATION:Children’s National Hospital\, 111 Michigan Ave NW\, Washington\, DC\, 20010\, United States
ATTACH;FMTTYPE=image/jpeg:https://ghicn.org/wp-content/uploads/2019/08/gary-klein.jpg
END:VEVENT
END:VCALENDAR